Workbook

Sheet TLA
A1: TLA - 2011 MPB Update
A2: Area (ha) of MPB Attack Severity by Age Class and Density within Pine Stands (Pine Species >= 30% density - The Pine Mask)
A3: TSA Area | B3: 1577481.5
A4: Pine Mask Unharvested Area | B4: =SUM(data!D2:D200) -> 708883.19
A6: MPB Attack as a percentage of Pine affected within the VRI Stand
A8: MPB Attack Severity
C9: Light (<11%) | E9: Moderate (11-30%) | G9: Severe (31-50%) | I9: Very Severe (>50%) | K9: All Severity | M9: No Attack
A10: Age Class | B10: Pine Density | C10: Area (ha) | D10: Percent of all Pine (Pine Mask) | E10: Area (ha) | F10: Percent of all Pine (Pine Mask) | G10: Area (ha) | H10: Percent of all Pine (Pine Mask) | I10: Area (ha) | J10: Percent of all Pine (Pine Mask) | K10: Total Area of Attack (ha) | L10: Percent of all Pine (Pine Mask) | M10: Area (ha) | N10: Percent of all Pine (Pine Mask)
A11: 21-40 years | B11: 30-70% | C11: {=SUM(IF(data!A2:A200="21-40 years",IF(data!B2:B200="30-70%",IF(data!C2:C200="Light (<11%)",data!D2:D200,0),0),0))} -> 1822.1068 | D11: =C11/($K$20+$M$20) -> 0.0027096698 | E11: {=SUM(IF(data!A2:A200="21-40 years",IF(data!B2:B200="30-70%",IF(data!C2:C200="Moderate (11-30%)",data!D2:D200,0),0),0))} -> 1108.3825 | F11: =E11/($K$20+$M$20) -> 0.0016482846 | G11: {=SUM(IF(data!A2:A200="21-40 years",IF(data!B2:B200="30-70%",IF(data!C2:C200="Severe (31-50%)",data!D2:D200,0),0),0))} -> 396.53626 | H11: =G11/($K$20+$M$20) -> 0.00058969227 | I11: {=SUM(IF(data!A2:A200="21-40 years",IF(data!B2:B200="30-70%",IF(data!C2:C200="Very Severe (>50%)",data!D2:D200,0),0),0))} -> 7572.5812 | J11: =I11/($K$20+$M$20) -> 0.011261247 | K11: =SUM(C11,E11,G11,I11) -> 10899.607 | L11: =K11/($K$20+$M$20) -> 0.016208893 | M11: {=SUM(IF(data!A2:A200="21-40 years",IF(data!B2:B200="30-70%",IF(data!C2:C200="No Attack",data!D2:D200,0),0),0))} -> 499.26905 | N11: =M11/($K$20+$M$20) -> 0.00074246704
B12: >70% | C12: {=SUM(IF(data!A2:A200="21-40 years",IF(data!B2:B200=">70%",IF(data!C2:C200="Light (<11%)",data!D2:D200,0),0),0))} -> 4316.0977 | D12: =C12/($K$20+$M$20) -> 0.0064185038 | E12: {=SUM(IF(data!A2:A200="21-40 years",IF(data!B2:B200=">70%",IF(data!C2:C200="Moderate (11-30%)",data!D2:D200,0),0),0))} -> 3058.0639 | F12: =E12/($K$20+$M$20) -> 0.0045476716 | G12: {=SUM(IF(data!A2:A200="21-40 years",IF(data!B2:B200=">70%",IF(data!C2:C200="Severe (31-50%)",data!D2:D200,0),0),0))} -> 1082.5454 | H12: =G12/($K$20+$M$20) -> 0.0016098621 | I12: {=SUM(IF(data!A2:A200="21-40 years",IF(data!B2:B200=">70%",IF(data!C2:C200="Very Severe (>50%)",data!D2:D200,0),0),0))} -> 34304.404 | J12: =I12/($K$20+$M$20) -> 0.051014356 | K12: =SUM(C12,E12,G12,I12) -> 42761.111 | L12: =K12/($K$20+$M$20) -> 0.063590394 | M12: {=SUM(IF(data!A2:A200="21-40 years",IF(data!B2:B200=">70%",IF(data!C2:C200="No Attack",data!D2:D200,0),0),0))} -> 1273.0124 | N12: =M12/($K$20+$M$20) -> 0.001893107
A14: 41-60 years | B14: 30-70% | C14: {=SUM(IF(data!A2:A200="41-60 years",IF(data!B2:B200="30-70%",IF(data!C2:C200="Light (<11%)",data!D2:D200,0),0),0))} -> 98.542378 | D14: =C14/($K$20+$M$20) -> 0.00014654317 | E14: {=SUM(IF(data!A2:A200="41-60 years",IF(data!B2:B200="30-70%",IF(data!C2:C200="Moderate (11-30%)",data!D2:D200,0),0),0))} -> 170.17139 | F14: =E14/($K$20+$M$20) -> 0.00025306325 | G14: {=SUM(IF(data!A2:A200="41-60 years",IF(data!B2:B200="30-70%",IF(data!C2:C200="Severe (31-50%)",data!D2:D200,0),0),0))} -> 86.088874 | H14: =G14/($K$20+$M$20) -> 0.00012802346 | I14: {=SUM(IF(data!A2:A200="41-60 years",IF(data!B2:B200="30-70%",IF(data!C2:C200="Very Severe (>50%)",data!D2:D200,0),0),0))} -> 5232.8265 | J14: =I14/($K$20+$M$20) -> 0.0077817786 | K14: =SUM(C14,E14,G14,I14) -> 5587.6292 | L14: =K14/($K$20+$M$20) -> 0.0083094085 | M14: {=SUM(IF(data!A2:A200="41-60 years",IF(data!B2:B200="30-70%",IF(data!C2:C200="No Attack",data!D2:D200,0),0),0))} -> 103.15927 | N14: =M14/($K$20+$M$20) -> 0.00015340899
B15: >70% | C15: {=SUM(IF(data!A2:A200="41-60 years",IF(data!B2:B200=">70%",IF(data!C2:C200="Light (<11%)",data!D2:D200,0),0),0))} -> 11.621685 | D15: =C15/($K$20+$M$20) -> 1.7282701e-05 | E15: {=SUM(IF(data!A2:A200="41-60 years",IF(data!B2:B200=">70%",IF(data!C2:C200="Moderate (11-30%)",data!D2:D200,0),0),0))} -> 43.077302 | F15: =E15/($K$20+$M$20) -> 6.4060604e-05 | G15: {=SUM(IF(data!A2:A200="41-60 years",IF(data!B2:B200=">70%",IF(data!C2:C200="Severe (31-50%)",data!D2:D200,0),0),0))} -> 252.94924 | H15: =G15/($K$20+$M$20) -> 0.00037616286 | I15: {=SUM(IF(data!A2:A200="41-60 years",IF(data!B2:B200=">70%",IF(data!C2:C200="Very Severe (>50%)",data!D2:D200,0),0),0))} -> 10341.447 | J15: =I15/($K$20+$M$20) -> 0.015378849 | K15: =SUM(C15,E15,G15,I15) -> 10649.095 | L15: =K15/($K$20+$M$20) -> 0.015836355 | M15: {=SUM(IF(data!A2:A200="41-60 years",IF(data!B2:B200=">70%",IF(data!C2:C200="No Attack",data!D2:D200,0),0),0))} -> 82.878422 | N15: =M15/($K$20+$M$20) -> 0.00012324917
A17: >60 years | B17: 30-70% | C17: {=SUM(IF(data!A2:A200=">60 years",IF(data!B2:B200="30-70%",IF(data!C2:C200="Light (<11%)",data!D2:D200,0),0),0))} -> 1036.1305 | D17: =C17/($K$20+$M$20) -> 0.001540838 | E17: {=SUM(IF(data!A2:A200=">60 years",IF(data!B2:B200="30-70%",IF(data!C2:C200="Moderate (11-30%)",data!D2:D200,0),0),0))} -> 1667.456 | F17: =E17/($K$20+$M$20) -> 0.0024796873 | G17: {=SUM(IF(data!A2:A200=">60 years",IF(data!B2:B200="30-70%",IF(data!C2:C200="Severe (31-50%)",data!D2:D200,0),0),0))} -> 4567.9944 | H17: =G17/($K$20+$M$20) -> 0.0067931013 | I17: {=SUM(IF(data!A2:A200=">60 years",IF(data!B2:B200="30-70%",IF(data!C2:C200="Very Severe (>50%)",data!D2:D200,0),0),0))} -> 198019.8 | J17: =I17/($K$20+$M$20) -> 0.29447684 | K17: =SUM(C17,E17,G17,I17) -> 205291.38 | L17: =K17/($K$20+$M$20) -> 0.30529047 | M17: {=SUM(IF(data!A2:A200=">60 years",IF(data!B2:B200="30-70%",IF(data!C2:C200="No Attack",data!D2:D200,0),0),0))} -> 2344.5568 | N17: =M17/($K$20+$M$20) -> 0.0034866094
B18: >70% | C18: {=SUM(IF(data!A2:A200=">60 years",IF(data!B2:B200=">70%",IF(data!C2:C200="Light (<11%)",data!D2:D200,0),0),0))} -> 838.74049 | D18: =C18/($K$20+$M$20) -> 0.0012472978 | E18: {=SUM(IF(data!A2:A200=">60 years",IF(data!B2:B200=">70%",IF(data!C2:C200="Moderate (11-30%)",data!D2:D200,0),0),0))} -> 2923.7221 | F18: =E18/($K$20+$M$20) -> 0.0043478908 | G18: {=SUM(IF(data!A2:A200=">60 years",IF(data!B2:B200=">70%",IF(data!C2:C200="Severe (31-50%)",data!D2:D200,0),0),0))} -> 8874.4193 | H18: =G18/($K$20+$M$20) -> 0.013197221 | I18: {=SUM(IF(data!A2:A200=">60 years",IF(data!B2:B200=">70%",IF(data!C2:C200="Very Severe (>50%)",data!D2:D200,0),0),0))} -> 379729.75 | J18: =I18/($K$20+$M$20) -> 0.56469917 | K18: =SUM(C18,E18,G18,I18) -> 392366.63 | L18: =K18/($K$20+$M$20) -> 0.58349158 | M18: {=SUM(IF(data!A2:A200=">60 years",IF(data!B2:B200=">70%",IF(data!C2:C200="No Attack",data!D2:D200,0),0),0))} -> 587.75878 | N18: =M18/($K$20+$M$20) -> 0.00087406083
A20: Total | C20: =SUM(C11:C18) -> 8123.2396 | D20: =C20/($K$20+$M$20) -> 0.012080135 | E20: =SUM(E11:E18) -> 8970.8733 | F20: =E20/($K$20+$M$20) -> 0.013340658 | G20: =SUM(G11:G18) -> 15260.533 | H20: =G20/($K$20+$M$20) -> 0.022694063 | I20: =SUM(I11:I18) -> 635200.8 | J20: =I20/($K$20+$M$20) -> 0.94461224 | K20: =SUM(K11:K18) -> 667555.45 | L20: =SUM(L11:L18) -> 0.9927271 | M20: =SUM(M11:M18) -> 4890.6348 | N20: =SUM(N11:N18) -> 0.0072729025

Sheet data
A1: Age Class | B1: Pine Density | C1: MPB Attack Severity | D1: Sum Of area_ha
A2: <21 years | B2: >70% | C2: Light (<11%) | D2: 161.91155
A3: <21 years | B3: >70% | C3: Light (<11%) | D3: 6284.8985
A4: <21 years | B4: >70% | C4: Moderate (11-30%) | D4: 64.469162
A5: <21 years | B5: >70% | C5: Moderate (11-30%) | D5: 4224.5066
A6: <21 years | B6: >70% | C6: Moderate (11-30%) | D6: 9.511052
A7: <21 years | B7: >70% | C7: No Attack | D7: 269.73907
A8: <21 years | B8: >70% | C8: No Attack | D8: 52.517261
A9: <21 years | B9: >70% | C9: No Attack | D9: 617.69272
A10: <21 years | B10: >70% | C10: No Attack | D10: 1.3632887e-05
A11: <21 years | B11: >70% | C11: Severe (31-50%) | D11: 1.461467
A12: <21 years | B12: >70% | C12: Severe (31-50%) | D12: 805.66613
A13: <21 years | B13: >70% | C13: Very Severe (>50%) | D13: 810.93142
... A112: 41-60 years | B112: 30-70% | C112: Very Severe (>50%) | D112: 125.08171

Sheet Sheet3
